BEGIN:VCALENDAR
VERSION:2.0
PRODID:-//Jiska Ogier - ECPv6.15.20//NONSGML v1.0//EN
CALSCALE:GREGORIAN
METHOD:PUBLISH
X-WR-CALNAME:Jiska Ogier
X-ORIGINAL-URL:https://jiskaogier.nl
X-WR-CALDESC:Evenementen voor Jiska Ogier
REFRESH-INTERVAL;VALUE=DURATION:PT1H
X-Robots-Tag:noindex
X-PUBLISHED-TTL:PT1H
BEGIN:VTIMEZONE
TZID:UTC
BEGIN:STANDARD
TZOFFSETFROM:+0000
TZOFFSETTO:+0000
TZNAME:UTC
DTSTART:20210101T000000
END:STANDARD
END:VTIMEZONE
BEGIN:VEVENT
DTSTART;VALUE=DATE:20220227
DTEND;VALUE=DATE:20220228
DTSTAMP:20260421T025301
CREATED:20211216T123708Z
LAST-MODIFIED:20211230T122312Z
UID:6981-1645920000-1646006399@jiskaogier.nl
SUMMARY:Hoger onderwijs
DESCRIPTION:Beschrijving \n  \n\n\n                \n                        \n                            Inschrijven\n                             \n                        \n                        Naam\n                            \n                            \n                                                    \n                                                    Voornaam\n                                                \n                            \n                            \n                                                    \n                                                    Achternaam\n                                                \n                            \n                        TelefoonE-mailadres\n                            \n                        Laat een bericht achter
URL:https://jiskaogier.nl/event/hoger-onderwijs/
LOCATION:Amstel\, Amstelstraat\, Amsterdam\, Noord-Holland\, Nederland
CATEGORIES:Onderwijs,Workshop
ATTACH;FMTTYPE=image/jpeg:https://jiskaogier.nl/wp-content/uploads/2021/12/Jiska_Ogier_MarijndeWijs_35.jpg
ORGANIZER;CN="Jiska":MAILTO:jiska@jiskaogier.nl
END:VEVENT
END:VCALENDAR